BEGIN:VCALENDAR
VERSION:2.0
PRODID:-//eventon.com NONSGML v1.0//EN
CALSCALE:GREGORIAN
METHOD:PUBLISH
BEGIN:VEVENT
UID:69e66e6fb5e78
DTSTAMP:20260420T182031Z
DTSTART:20260731T070000Z
DTEND:20260802T010000Z
LOCATION:VR Skellerup Hall\,  Badminton Canterbury 220 Pages Road\,  Wainoni
SUMMARY:SOUTH ISLAND SENIOR DIVISION 3
DESCRIPTION:SOUTH ISLAND SENIOR DIVISION 3\nhttps://badmintoncanterbury.com
 /events/south-island-senior-division-3/
URL:https://badmintoncanterbury.com/events/south-island-senior-division-3/
END:VEVENT
END:VCALENDAR