BEGIN:VCALENDAR
VERSION:2.0
PRODID:-//eventon.com NONSGML v1.0//EN
CALSCALE:GREGORIAN
METHOD:PUBLISH
BEGIN:VEVENT
UID:69e66e2d47d98
DTSTAMP:20260420T181925Z
DTSTART:20260830T203000Z
DTEND:20260902T040000Z
LOCATION:VR Skellerup Hall\,  Badminton Canterbury 220 Pages Road\,  Wainoni
SUMMARY:CANTERBURY SECONDARY SCHOOL INDIVIDUAL CHAMPIONSHIPS
DESCRIPTION:CANTERBURY SECONDARY SCHOOL INDIVIDUAL CHAMPIONSHIPS\nhttps://b
 admintoncanterbury.com/events/canterbury-secondary-school-individual-champi
 onships/
URL:https://badmintoncanterbury.com/events/canterbury-secondary-school-individual-championships/
END:VEVENT
END:VCALENDAR