BEGIN:VCALENDAR
VERSION:2.0
PRODID:-//eventon.com NONSGML v1.0//EN
CALSCALE:GREGORIAN
METHOD:PUBLISH
BEGIN:VEVENT
UID:69e66e50bc4e8
DTSTAMP:20260420T182000Z
DTSTART:20260528T203000Z
DTEND:20260531T083000Z
LOCATION:Southland Badminton Association
SUMMARY:SOUTH ISLAND MASTERS
DESCRIPTION:Details to follow\nhttps://badmintoncanterbury.com/events/south
 -island-masters/
URL:https://badmintoncanterbury.com/events/south-island-masters/
END:VEVENT
END:VCALENDAR