BEGIN:VCALENDAR
VERSION:2.0
PRODID:-//eventon.com NONSGML v1.0//EN
CALSCALE:GREGORIAN
METHOD:PUBLISH
BEGIN:VEVENT
UID:69e66e14944ea
DTSTAMP:20260420T181900Z
DTSTART:20260424
DTEND:20260425
LOCATION:VR Skellerup Hall\,  Badminton Canterbury 220 Pages Road\,  Wainoni
SUMMARY:NEIL CUP
DESCRIPTION:To be held in Canterbury for 2025\nhttps://badmintoncanterbury.
 com/events/neil-cup/
URL:https://badmintoncanterbury.com/events/neil-cup/
END:VEVENT
END:VCALENDAR