BEGIN:VCALENDAR
VERSION:2.0
PRODID:-//eventon.com NONSGML v1.0//EN
CALSCALE:GREGORIAN
METHOD:PUBLISH
BEGIN:VEVENT
UID:69e66e4fc14b4
DTSTAMP:20260420T181959Z
DTSTART:20260522T200000Z
DTEND:20260524T070000Z
LOCATION:VR Skellerup Hall 220 Pages Road\,  Wainoni
SUMMARY:CANTERBURY U19 & U15 2026 CHAMPIONSHIP AND DIV 2
DESCRIPTION:  &nbsp;   &nbsp; &nbsp; &nbsp; &nbsp; &nbsp; &nbsp; &nbsp; &
 nbsp; &nbsp; &nbsp; &nbsp; &nbsp; &nbsp; &nbsp; &nbsp; &nbsp; &nbsp;\nhttps
 ://badmintoncanterbury.com/events/15-19/
URL:https://badmintoncanterbury.com/events/15-19/
END:VEVENT
END:VCALENDAR